BEGIN:VCALENDAR
VERSION:2.0
PRODID:-//BZÖ Kärnten - ECPv6.2.6//NONSGML v1.0//EN
CALSCALE:GREGORIAN
METHOD:PUBLISH
X-ORIGINAL-URL:https://www.bzoe-kaernten.at
X-WR-CALDESC:Veranstaltungen für BZÖ Kärnten
REFRESH-INTERVAL;VALUE=DURATION:PT1H
X-Robots-Tag:noindex
X-PUBLISHED-TTL:PT1H
BEGIN:VTIMEZONE
TZID:Europe/Berlin
BEGIN:DAYLIGHT
TZOFFSETFROM:+0100
TZOFFSETTO:+0200
TZNAME:CEST
DTSTART:20200329T010000
END:DAYLIGHT
BEGIN:STANDARD
TZOFFSETFROM:+0200
TZOFFSETTO:+0100
TZNAME:CET
DTSTART:20201025T010000
END:STANDARD
END:VTIMEZONE
BEGIN:VEVENT
DTSTART;TZID=Europe/Berlin:20200501T103000
DTEND;TZID=Europe/Berlin:20200501T120000
DTSTAMP:20260420T205544
CREATED:20200429T211425Z
LAST-MODIFIED:20200429T211927Z
UID:3491-1588329000-1588334400@www.bzoe-kaernten.at
SUMMARY:AUTOCORSO STATT Corona Diktatur und Almosen: VOLLE ENTSCHÄDIGUNG
DESCRIPTION:Demonstration – 1 Mai 2020 – AUTOCORSO  \nKurz zusammengefasst – Start 10:30 Landesregierung – 2 Runden am Klagenfurter Ring dann zum Minimundusparkplatz Ende ca. 11:45 – bei gemeinsam gemeldeten Personen OHNE VORGABEN im Auto. \nBei nicht gemeinsam gemeldeten folgende derzeit gesetzich gültigen  VORGABEN: Abstand von 1 Meter (diagonal sitzen bei Unsicherheit bitte Abstandmessen!) mit Nasen&Mundschutz. Hinweis: Bei jedem normalen Auto problemlos mit 2 Personen möglich – diagonal (vorne Links – hinten Rechts) \n\nInterne Sammlung (inoffiziell/freiwillig) – \nKlagenfurt OBI Parkplatz VölkermarkterStraße /  St. Jakoberstraße 2   \nAb 10:00 Abfahrt Richtung Landesregierung  mit 10:15\nBeginn der Öffentlichen (Polizeilich begleiteten) Veranstaltung\nSammlung ab 10:15  – Amt der Kärntner Landesregierung  Anuflsplatz 1 \, Ansprechpartner Martin Rutter 06509608356 \n10:30 Verkündung der politischen Forderungen mit dem Schwerpunkt vollster finanzieller Entschädigung ALLER durch das „Arbeitsverbot“ Betrofffenen  sowie  ggf. Organisatorisches durch den Organisator/Anmelder \n\nGenaue Streckenführung: \nAbfahrt ca. 10:45 – vom Bereich Arnulfplatz 1\nRechts abbiegen auf Mießtaler Str.\nAuf Völkermarkter Ring/B92 nach Norden\nWeiter auf Völkermarkter Ring/B70\nWeiter auf Kärntner Strasse/St. Veiter Ring/B83\nSt. Veiter Ring\nAuf Kärntner Strasse/St. Veiter Ring/B83 nach Südwesten\nWeiter auf Kärntner Strasse/B83\nWeiter auf Villacher Ring/B91\nLinks abbiegen auf August-Jaksch-Straße/B92\nAuf Rosentaler Str. nach Osten Richtung Viktringer Ring/B92\nLinks abbiegen auf Völkermarkter Ring/B92\nWeiter auf Völkermarkter Ring/B70\nWeiter auf Kärntner Strasse/St. Veiter Ring/B83\nSt. Veiter Ring\nAuf Kärntner Strasse/St. Veiter Ring/B83 nach Südwesten\nWeiter auf Kärntner Strasse/B83\nWeiter auf Villacherstraße  westlicht –  zu  Minimundus Parkplatz  – Links  abbiegen  auf Klagenfurt Minimundusparkplatz \nEnde der offiziellen (Polizeilich begleiteten) Veranstaltung  mit Danksagung und organisatorischem gegen \n11:45\, spätestens 12.00 am Minimundusparkplatz \nteilen teilen teilen E-Mail teilen 
URL:https://www.bzoe-kaernten.at/veranstaltungen/autocorso-statt-corona-diktatur-und-almosen-volle-entschaedigung/
ATTACH;FMTTYPE=image/jpeg:https://www.bzoe-kaernten.at/wp-content/uploads/2020/04/IMAGE-2020-04-29-231349.jpg
END:VEVENT
END:VCALENDAR